BEGIN:VCALENDAR
VERSION:2.0
PRODID:-//BIG ARTS of Sanibel - ECPv6.2.1//NONSGML v1.0//EN
CALSCALE:GREGORIAN
METHOD:PUBLISH
X-WR-CALNAME:BIG ARTS of Sanibel
X-ORIGINAL-URL:https://bigarts.org
X-WR-CALDESC:Events for BIG ARTS of Sanibel
REFRESH-INTERVAL;VALUE=DURATION:PT1H
X-Robots-Tag:noindex
X-PUBLISHED-TTL:PT1H
BEGIN:VTIMEZONE
TZID:America/New_York
BEGIN:DAYLIGHT
TZOFFSETFROM:-0500
TZOFFSETTO:-0400
TZNAME:EDT
DTSTART:20260308T070000
END:DAYLIGHT
BEGIN:STANDARD
TZOFFSETFROM:-0400
TZOFFSETTO:-0500
TZNAME:EST
DTSTART:20261101T060000
END:STANDARD
END:VTIMEZONE
BEGIN:VEVENT
DTSTART;TZID=America/New_York:20260427T190000
DTEND;TZID=America/New_York:20260427T190000
DTSTAMP:20260421T045420
CREATED:20251229T183727Z
LAST-MODIFIED:20251229T184542Z
UID:10000738-1777316400-1777316400@bigarts.org
SUMMARY:Summer of Soul
DESCRIPTION:David Borenstein and Pavel Talankin\, 2025\, 1h 30mNot Rated A Russian teacher secretly documents his small town school’s transformation into a war recruitment center during the Ukraine invasion\, revealing the ethical dilemmas educators face amid propaganda and militarization.
URL:https://bigarts.org/event/summer-of-soul/
CATEGORIES:Film Series
ATTACH;FMTTYPE=image/jpeg:https://bigarts.org/wp-content/uploads/2025/12/Summer-of-Soul-Sized-for-Web.jpg
END:VEVENT
END:VCALENDAR