BEGIN:VCALENDAR
VERSION:2.0
PRODID:-//BIG ARTS of Sanibel - ECPv6.2.1//NONSGML v1.0//EN
CALSCALE:GREGORIAN
METHOD:PUBLISH
X-WR-CALNAME:BIG ARTS of Sanibel
X-ORIGINAL-URL:https://bigarts.org
X-WR-CALDESC:Events for BIG ARTS of Sanibel
REFRESH-INTERVAL;VALUE=DURATION:PT1H
X-Robots-Tag:noindex
X-PUBLISHED-TTL:PT1H
BEGIN:VTIMEZONE
TZID:America/New_York
BEGIN:DAYLIGHT
TZOFFSETFROM:-0500
TZOFFSETTO:-0400
TZNAME:EDT
DTSTART:20250309T070000
END:DAYLIGHT
BEGIN:STANDARD
TZOFFSETFROM:-0400
TZOFFSETTO:-0500
TZNAME:EST
DTSTART:20251102T060000
END:STANDARD
BEGIN:DAYLIGHT
TZOFFSETFROM:-0500
TZOFFSETTO:-0400
TZNAME:EDT
DTSTART:20260308T070000
END:DAYLIGHT
BEGIN:STANDARD
TZOFFSETFROM:-0400
TZOFFSETTO:-0500
TZNAME:EST
DTSTART:20261101T060000
END:STANDARD
END:VTIMEZONE
BEGIN:VEVENT
DTSTART;VALUE=DATE:20251101
DTEND;VALUE=DATE:20260701
DTSTAMP:20260420T171419
CREATED:20250708T181732Z
LAST-MODIFIED:20251024T202907Z
UID:10000686-1761955200-1782863999@bigarts.org
SUMMARY:I Am My Home - Mariapia Malerba
DESCRIPTION:Artwork Credit: Barbara Ellis 						\n				\n				\n				\n							Artist Reception: Friday\, May 1\, 2026\, 5:00 PM This annual exhibit highlights the work of artist-instructors who lead BIG ARTS Workshops and Classes. Through a diverse mix of mediums\, it reflects the creativity\, skill\, and passion they share with students throughout the season.
URL:https://bigarts.org/event/mariapia-malerba/
CATEGORIES:Fine Arts
ATTACH;FMTTYPE=image/jpeg:https://bigarts.org/wp-content/uploads/2025/07/MariaPia.jpg
END:VEVENT
BEGIN:VEVENT
DTSTART;VALUE=DATE:20251219
DTEND;VALUE=DATE:20260126
DTSTAMP:20260420T171419
CREATED:20250708T172340Z
LAST-MODIFIED:20250904T131823Z
UID:10000679-1766102400-1769385599@bigarts.org
SUMMARY:Ode to Joy Sanibel - Captiva Art League
DESCRIPTION:Artwork Credit: Barbara Ellis 						\n				\n				\n				\n							Artist Reception: Friday\, May 1\, 2026\, 5:00 PM This annual exhibit highlights the work of artist-instructors who lead BIG ARTS Workshops and Classes. Through a diverse mix of mediums\, it reflects the creativity\, skill\, and passion they share with students throughout the season.
URL:https://bigarts.org/event/50th-southwest-florida-arts-council/
CATEGORIES:Fine Arts
ATTACH;FMTTYPE=image/jpeg:https://bigarts.org/wp-content/uploads/2025/07/San-Cap-Art-League.jpg
END:VEVENT
END:VCALENDAR