BEGIN:VCALENDAR
VERSION:2.0
PRODID:-//BIG ARTS of Sanibel - ECPv6.2.1//NONSGML v1.0//EN
CALSCALE:GREGORIAN
METHOD:PUBLISH
X-WR-CALNAME:BIG ARTS of Sanibel
X-ORIGINAL-URL:https://bigarts.org
X-WR-CALDESC:Events for BIG ARTS of Sanibel
REFRESH-INTERVAL;VALUE=DURATION:PT1H
X-Robots-Tag:noindex
X-PUBLISHED-TTL:PT1H
BEGIN:VTIMEZONE
TZID:America/New_York
BEGIN:DAYLIGHT
TZOFFSETFROM:-0500
TZOFFSETTO:-0400
TZNAME:EDT
DTSTART:20260308T070000
END:DAYLIGHT
BEGIN:STANDARD
TZOFFSETFROM:-0400
TZOFFSETTO:-0500
TZNAME:EST
DTSTART:20261101T060000
END:STANDARD
END:VTIMEZONE
BEGIN:VEVENT
DTSTART;VALUE=DATE:20260216
DTEND;VALUE=DATE:20260324
DTSTAMP:20260420T184505
CREATED:20250626T154055Z
LAST-MODIFIED:20260213T143022Z
UID:10000631-1771200000-1774310399@bigarts.org
SUMMARY:Beginning Pottery Wheel 101 - February 2026
DESCRIPTION:1-day class fee: $90 / $72 annual donorsSupply fee: $10 per student and payable to the instructor for all supplies provided Learn to create a charming\, free-standing mango sculpture with a playful style using masking tape as a sculpting medium. This fruit character sculpting class welcomes students of all artistic levels\, whether you’re a beginner looking to explore your creativity or an experienced artist wanting to experiment with a new medium. Jeff’s teaching style is relaxed\, conversational\, and encourages everyone’s individual creativity. You will learn the techniques of how to layer and manipulate the tape to achieve the desired shape and texture using masking tape\, paper\, wire\, and glass marbles for the eyes. At the end of the class\, you’ll take home your distinctive standing fruit\, reflecting the charm of contemporary folk art. You’ll also receive an instructional handout to help you seal and paint your artwork using easy-to-find materials at home. 						\n				\n				\n				\n							\n					\n						\n									Artist BIO\n					\n					\n				\n						\n				\n				\n				\n							Call the box office to register: 239-395-0900 Cancellation deadline: 06/14/2026 Student Cancellation Policy: Cancellations made more than one week (7 days) prior to the start of class will receive an 80% refund.  OR – funds may be applied to any other workshop of your choice during the current season. Registration fees are non-refundable and non-transferable for cancellations made less than one-week prior to the start of the class. BIG ARTS Cancellation Policy: There is a minimum of 4 students required to run a class/workshop.  If the minimum number of students is not met one week (7 days) prior to the start of class BIG ARTS will cancel the class and refund students who are registered.
URL:https://bigarts.org/event/pottery-wheel-101-february/
CATEGORIES:Pottery
ATTACH;FMTTYPE=image/jpeg:https://bigarts.org/wp-content/uploads/2025/06/Tim-Smith-Mondays.jpg
END:VEVENT
BEGIN:VEVENT
DTSTART;VALUE=DATE:20260216
DTEND;VALUE=DATE:20260324
DTSTAMP:20260420T184505
CREATED:20250701T172730Z
LAST-MODIFIED:20260213T143030Z
UID:10000665-1771200000-1774310399@bigarts.org
SUMMARY:BEGINNING HAND-BUILDING 101 - Mondays\, February
DESCRIPTION:1-day class fee: $90 / $72 annual donorsSupply fee: $10 per student and payable to the instructor for all supplies provided Learn to create a charming\, free-standing mango sculpture with a playful style using masking tape as a sculpting medium. This fruit character sculpting class welcomes students of all artistic levels\, whether you’re a beginner looking to explore your creativity or an experienced artist wanting to experiment with a new medium. Jeff’s teaching style is relaxed\, conversational\, and encourages everyone’s individual creativity. You will learn the techniques of how to layer and manipulate the tape to achieve the desired shape and texture using masking tape\, paper\, wire\, and glass marbles for the eyes. At the end of the class\, you’ll take home your distinctive standing fruit\, reflecting the charm of contemporary folk art. You’ll also receive an instructional handout to help you seal and paint your artwork using easy-to-find materials at home. 						\n				\n				\n				\n							\n					\n						\n									Artist BIO\n					\n					\n				\n						\n				\n				\n				\n							Call the box office to register: 239-395-0900 Cancellation deadline: 06/14/2026 Student Cancellation Policy: Cancellations made more than one week (7 days) prior to the start of class will receive an 80% refund.  OR – funds may be applied to any other workshop of your choice during the current season. Registration fees are non-refundable and non-transferable for cancellations made less than one-week prior to the start of the class. BIG ARTS Cancellation Policy: There is a minimum of 4 students required to run a class/workshop.  If the minimum number of students is not met one week (7 days) prior to the start of class BIG ARTS will cancel the class and refund students who are registered.
URL:https://bigarts.org/event/handbuilding-101-mondays-february/
CATEGORIES:Pottery
ATTACH;FMTTYPE=image/jpeg:https://bigarts.org/wp-content/uploads/2025/07/Kim-Tetmyer-Mondays.jpg
END:VEVENT
BEGIN:VEVENT
DTSTART;VALUE=DATE:20260217
DTEND;VALUE=DATE:20260325
DTSTAMP:20260420T184505
CREATED:20250630T150813Z
LAST-MODIFIED:20260213T143039Z
UID:10000638-1771286400-1774396799@bigarts.org
SUMMARY:Intermediate Pottery Wheel 102 - February 2026
DESCRIPTION:1-day class fee: $90 / $72 annual donorsSupply fee: $10 per student and payable to the instructor for all supplies provided Learn to create a charming\, free-standing mango sculpture with a playful style using masking tape as a sculpting medium. This fruit character sculpting class welcomes students of all artistic levels\, whether you’re a beginner looking to explore your creativity or an experienced artist wanting to experiment with a new medium. Jeff’s teaching style is relaxed\, conversational\, and encourages everyone’s individual creativity. You will learn the techniques of how to layer and manipulate the tape to achieve the desired shape and texture using masking tape\, paper\, wire\, and glass marbles for the eyes. At the end of the class\, you’ll take home your distinctive standing fruit\, reflecting the charm of contemporary folk art. You’ll also receive an instructional handout to help you seal and paint your artwork using easy-to-find materials at home. 						\n				\n				\n				\n							\n					\n						\n									Artist BIO\n					\n					\n				\n						\n				\n				\n				\n							Call the box office to register: 239-395-0900 Cancellation deadline: 06/14/2026 Student Cancellation Policy: Cancellations made more than one week (7 days) prior to the start of class will receive an 80% refund.  OR – funds may be applied to any other workshop of your choice during the current season. Registration fees are non-refundable and non-transferable for cancellations made less than one-week prior to the start of the class. BIG ARTS Cancellation Policy: There is a minimum of 4 students required to run a class/workshop.  If the minimum number of students is not met one week (7 days) prior to the start of class BIG ARTS will cancel the class and refund students who are registered.
URL:https://bigarts.org/event/pottery-wheel-102-february/
CATEGORIES:Pottery
ATTACH;FMTTYPE=image/jpeg:https://bigarts.org/wp-content/uploads/2025/06/Tim-Smith-Tuesdays.jpg
END:VEVENT
BEGIN:VEVENT
DTSTART;VALUE=DATE:20260217
DTEND;VALUE=DATE:20260325
DTSTAMP:20260420T184505
CREATED:20250701T174456Z
LAST-MODIFIED:20260213T143049Z
UID:10000668-1771286400-1774396799@bigarts.org
SUMMARY:BEGINNING HAND-BUILDING 101 - February\, Tuesdays
DESCRIPTION:1-day class fee: $90 / $72 annual donorsSupply fee: $10 per student and payable to the instructor for all supplies provided Learn to create a charming\, free-standing mango sculpture with a playful style using masking tape as a sculpting medium. This fruit character sculpting class welcomes students of all artistic levels\, whether you’re a beginner looking to explore your creativity or an experienced artist wanting to experiment with a new medium. Jeff’s teaching style is relaxed\, conversational\, and encourages everyone’s individual creativity. You will learn the techniques of how to layer and manipulate the tape to achieve the desired shape and texture using masking tape\, paper\, wire\, and glass marbles for the eyes. At the end of the class\, you’ll take home your distinctive standing fruit\, reflecting the charm of contemporary folk art. You’ll also receive an instructional handout to help you seal and paint your artwork using easy-to-find materials at home. 						\n				\n				\n				\n							\n					\n						\n									Artist BIO\n					\n					\n				\n						\n				\n				\n				\n							Call the box office to register: 239-395-0900 Cancellation deadline: 06/14/2026 Student Cancellation Policy: Cancellations made more than one week (7 days) prior to the start of class will receive an 80% refund.  OR – funds may be applied to any other workshop of your choice during the current season. Registration fees are non-refundable and non-transferable for cancellations made less than one-week prior to the start of the class. BIG ARTS Cancellation Policy: There is a minimum of 4 students required to run a class/workshop.  If the minimum number of students is not met one week (7 days) prior to the start of class BIG ARTS will cancel the class and refund students who are registered.
URL:https://bigarts.org/event/handbuilding-101-tuesdays-february/
CATEGORIES:Pottery
ATTACH;FMTTYPE=image/jpeg:https://bigarts.org/wp-content/uploads/2025/07/Kim-Tetmyer-Tuesdays.jpg
END:VEVENT
BEGIN:VEVENT
DTSTART;VALUE=DATE:20260218
DTEND;VALUE=DATE:20260326
DTSTAMP:20260420T184505
CREATED:20250630T154105Z
LAST-MODIFIED:20260213T143057Z
UID:10000643-1771372800-1774483199@bigarts.org
SUMMARY:Advanced Pottery Wheel 103 - Wednesdays\, February
DESCRIPTION:1-day class fee: $90 / $72 annual donorsSupply fee: $10 per student and payable to the instructor for all supplies provided Learn to create a charming\, free-standing mango sculpture with a playful style using masking tape as a sculpting medium. This fruit character sculpting class welcomes students of all artistic levels\, whether you’re a beginner looking to explore your creativity or an experienced artist wanting to experiment with a new medium. Jeff’s teaching style is relaxed\, conversational\, and encourages everyone’s individual creativity. You will learn the techniques of how to layer and manipulate the tape to achieve the desired shape and texture using masking tape\, paper\, wire\, and glass marbles for the eyes. At the end of the class\, you’ll take home your distinctive standing fruit\, reflecting the charm of contemporary folk art. You’ll also receive an instructional handout to help you seal and paint your artwork using easy-to-find materials at home. 						\n				\n				\n				\n							\n					\n						\n									Artist BIO\n					\n					\n				\n						\n				\n				\n				\n							Call the box office to register: 239-395-0900 Cancellation deadline: 06/14/2026 Student Cancellation Policy: Cancellations made more than one week (7 days) prior to the start of class will receive an 80% refund.  OR – funds may be applied to any other workshop of your choice during the current season. Registration fees are non-refundable and non-transferable for cancellations made less than one-week prior to the start of the class. BIG ARTS Cancellation Policy: There is a minimum of 4 students required to run a class/workshop.  If the minimum number of students is not met one week (7 days) prior to the start of class BIG ARTS will cancel the class and refund students who are registered.
URL:https://bigarts.org/event/pottery-wheel-103-wednesdays-february/
CATEGORIES:Pottery
ATTACH;FMTTYPE=image/jpeg:https://bigarts.org/wp-content/uploads/2025/06/Tim-Smith-Wednesdays.jpg
END:VEVENT
BEGIN:VEVENT
DTSTART;VALUE=DATE:20260218
DTEND;VALUE=DATE:20260326
DTSTAMP:20260420T184505
CREATED:20250701T180234Z
LAST-MODIFIED:20260213T143107Z
UID:10000671-1771372800-1774483199@bigarts.org
SUMMARY:INTERMEDIATE & ADVANCED POTTERY - wednesdays\, february
DESCRIPTION:1-day class fee: $90 / $72 annual donorsSupply fee: $10 per student and payable to the instructor for all supplies provided Learn to create a charming\, free-standing mango sculpture with a playful style using masking tape as a sculpting medium. This fruit character sculpting class welcomes students of all artistic levels\, whether you’re a beginner looking to explore your creativity or an experienced artist wanting to experiment with a new medium. Jeff’s teaching style is relaxed\, conversational\, and encourages everyone’s individual creativity. You will learn the techniques of how to layer and manipulate the tape to achieve the desired shape and texture using masking tape\, paper\, wire\, and glass marbles for the eyes. At the end of the class\, you’ll take home your distinctive standing fruit\, reflecting the charm of contemporary folk art. You’ll also receive an instructional handout to help you seal and paint your artwork using easy-to-find materials at home. 						\n				\n				\n				\n							\n					\n						\n									Artist BIO\n					\n					\n				\n						\n				\n				\n				\n							Call the box office to register: 239-395-0900 Cancellation deadline: 06/14/2026 Student Cancellation Policy: Cancellations made more than one week (7 days) prior to the start of class will receive an 80% refund.  OR – funds may be applied to any other workshop of your choice during the current season. Registration fees are non-refundable and non-transferable for cancellations made less than one-week prior to the start of the class. BIG ARTS Cancellation Policy: There is a minimum of 4 students required to run a class/workshop.  If the minimum number of students is not met one week (7 days) prior to the start of class BIG ARTS will cancel the class and refund students who are registered.
URL:https://bigarts.org/event/intermediate-advanced-pottery-wednesdays-february/
CATEGORIES:Pottery
ATTACH;FMTTYPE=image/jpeg:https://bigarts.org/wp-content/uploads/2025/07/Kim-Tetmyer-Wednesdays.jpg
END:VEVENT
BEGIN:VEVENT
DTSTART;VALUE=DATE:20260219
DTEND;VALUE=DATE:20260327
DTSTAMP:20260420T184505
CREATED:20251003T193335Z
LAST-MODIFIED:20260213T143317Z
UID:10000716-1771459200-1774569599@bigarts.org
SUMMARY:Beginning Pottery Wheel 101 - Thursdays\, February
DESCRIPTION:1-day class fee: $90 / $72 annual donorsSupply fee: $10 per student and payable to the instructor for all supplies provided Learn to create a charming\, free-standing mango sculpture with a playful style using masking tape as a sculpting medium. This fruit character sculpting class welcomes students of all artistic levels\, whether you’re a beginner looking to explore your creativity or an experienced artist wanting to experiment with a new medium. Jeff’s teaching style is relaxed\, conversational\, and encourages everyone’s individual creativity. You will learn the techniques of how to layer and manipulate the tape to achieve the desired shape and texture using masking tape\, paper\, wire\, and glass marbles for the eyes. At the end of the class\, you’ll take home your distinctive standing fruit\, reflecting the charm of contemporary folk art. You’ll also receive an instructional handout to help you seal and paint your artwork using easy-to-find materials at home. 						\n				\n				\n				\n							\n					\n						\n									Artist BIO\n					\n					\n				\n						\n				\n				\n				\n							Call the box office to register: 239-395-0900 Cancellation deadline: 06/14/2026 Student Cancellation Policy: Cancellations made more than one week (7 days) prior to the start of class will receive an 80% refund.  OR – funds may be applied to any other workshop of your choice during the current season. Registration fees are non-refundable and non-transferable for cancellations made less than one-week prior to the start of the class. BIG ARTS Cancellation Policy: There is a minimum of 4 students required to run a class/workshop.  If the minimum number of students is not met one week (7 days) prior to the start of class BIG ARTS will cancel the class and refund students who are registered.
URL:https://bigarts.org/event/pottery-wheel-101-thursdays-february/
CATEGORIES:Pottery
ATTACH;FMTTYPE=image/jpeg:https://bigarts.org/wp-content/uploads/2025/06/Tim-Smith-Mondays.jpg
END:VEVENT
BEGIN:VEVENT
DTSTART;VALUE=DATE:20260304
DTEND;VALUE=DATE:20260326
DTSTAMP:20260420T184505
CREATED:20250623T150516Z
LAST-MODIFIED:20260213T142800Z
UID:10000604-1772582400-1774483199@bigarts.org
SUMMARY:Glass Fused Art - Wed\, March
DESCRIPTION:1-day class fee: $90 / $72 annual donorsSupply fee: $10 per student and payable to the instructor for all supplies provided Learn to create a charming\, free-standing mango sculpture with a playful style using masking tape as a sculpting medium. This fruit character sculpting class welcomes students of all artistic levels\, whether you’re a beginner looking to explore your creativity or an experienced artist wanting to experiment with a new medium. Jeff’s teaching style is relaxed\, conversational\, and encourages everyone’s individual creativity. You will learn the techniques of how to layer and manipulate the tape to achieve the desired shape and texture using masking tape\, paper\, wire\, and glass marbles for the eyes. At the end of the class\, you’ll take home your distinctive standing fruit\, reflecting the charm of contemporary folk art. You’ll also receive an instructional handout to help you seal and paint your artwork using easy-to-find materials at home. 						\n				\n				\n				\n							\n					\n						\n									Artist BIO\n					\n					\n				\n						\n				\n				\n				\n							Call the box office to register: 239-395-0900 Cancellation deadline: 06/14/2026 Student Cancellation Policy: Cancellations made more than one week (7 days) prior to the start of class will receive an 80% refund.  OR – funds may be applied to any other workshop of your choice during the current season. Registration fees are non-refundable and non-transferable for cancellations made less than one-week prior to the start of the class. BIG ARTS Cancellation Policy: There is a minimum of 4 students required to run a class/workshop.  If the minimum number of students is not met one week (7 days) prior to the start of class BIG ARTS will cancel the class and refund students who are registered.
URL:https://bigarts.org/event/glass-fusing-wednesdays-march/
CATEGORIES:Glass Fusing
ATTACH;FMTTYPE=image/jpeg:https://bigarts.org/wp-content/uploads/2025/06/Kaiser-March.jpg
END:VEVENT
BEGIN:VEVENT
DTSTART;VALUE=DATE:20260305
DTEND;VALUE=DATE:20260327
DTSTAMP:20260420T184505
CREATED:20250623T150829Z
LAST-MODIFIED:20260213T142810Z
UID:10000605-1772668800-1774569599@bigarts.org
SUMMARY:Glass Fused Art - Thurs\, March
DESCRIPTION:1-day class fee: $90 / $72 annual donorsSupply fee: $10 per student and payable to the instructor for all supplies provided Learn to create a charming\, free-standing mango sculpture with a playful style using masking tape as a sculpting medium. This fruit character sculpting class welcomes students of all artistic levels\, whether you’re a beginner looking to explore your creativity or an experienced artist wanting to experiment with a new medium. Jeff’s teaching style is relaxed\, conversational\, and encourages everyone’s individual creativity. You will learn the techniques of how to layer and manipulate the tape to achieve the desired shape and texture using masking tape\, paper\, wire\, and glass marbles for the eyes. At the end of the class\, you’ll take home your distinctive standing fruit\, reflecting the charm of contemporary folk art. You’ll also receive an instructional handout to help you seal and paint your artwork using easy-to-find materials at home. 						\n				\n				\n				\n							\n					\n						\n									Artist BIO\n					\n					\n				\n						\n				\n				\n				\n							Call the box office to register: 239-395-0900 Cancellation deadline: 06/14/2026 Student Cancellation Policy: Cancellations made more than one week (7 days) prior to the start of class will receive an 80% refund.  OR – funds may be applied to any other workshop of your choice during the current season. Registration fees are non-refundable and non-transferable for cancellations made less than one-week prior to the start of the class. BIG ARTS Cancellation Policy: There is a minimum of 4 students required to run a class/workshop.  If the minimum number of students is not met one week (7 days) prior to the start of class BIG ARTS will cancel the class and refund students who are registered.
URL:https://bigarts.org/event/glass-fusing-thursdays-march/
CATEGORIES:Glass Fusing
ATTACH;FMTTYPE=image/jpeg:https://bigarts.org/wp-content/uploads/2025/06/Kaiser-March.jpg
END:VEVENT
BEGIN:VEVENT
DTSTART;VALUE=DATE:20260320
DTEND;VALUE=DATE:20260411
DTSTAMP:20260420T184505
CREATED:20250926T131403Z
LAST-MODIFIED:20260316T144537Z
UID:10000713-1773964800-1775865599@bigarts.org
SUMMARY:THE ART OF PRINTMAKING #2
DESCRIPTION:1-day class fee: $90 / $72 annual donorsSupply fee: $10 per student and payable to the instructor for all supplies provided Learn to create a charming\, free-standing mango sculpture with a playful style using masking tape as a sculpting medium. This fruit character sculpting class welcomes students of all artistic levels\, whether you’re a beginner looking to explore your creativity or an experienced artist wanting to experiment with a new medium. Jeff’s teaching style is relaxed\, conversational\, and encourages everyone’s individual creativity. You will learn the techniques of how to layer and manipulate the tape to achieve the desired shape and texture using masking tape\, paper\, wire\, and glass marbles for the eyes. At the end of the class\, you’ll take home your distinctive standing fruit\, reflecting the charm of contemporary folk art. You’ll also receive an instructional handout to help you seal and paint your artwork using easy-to-find materials at home. 						\n				\n				\n				\n							\n					\n						\n									Artist BIO\n					\n					\n				\n						\n				\n				\n				\n							Call the box office to register: 239-395-0900 Cancellation deadline: 06/14/2026 Student Cancellation Policy: Cancellations made more than one week (7 days) prior to the start of class will receive an 80% refund.  OR – funds may be applied to any other workshop of your choice during the current season. Registration fees are non-refundable and non-transferable for cancellations made less than one-week prior to the start of the class. BIG ARTS Cancellation Policy: There is a minimum of 4 students required to run a class/workshop.  If the minimum number of students is not met one week (7 days) prior to the start of class BIG ARTS will cancel the class and refund students who are registered.
URL:https://bigarts.org/event/the-art-of-printmaking-2/
CATEGORIES:Fine Art
ATTACH;FMTTYPE=image/jpeg:https://bigarts.org/wp-content/uploads/2025/09/Printmaking-NEWER-1.jpg
END:VEVENT
END:VCALENDAR