BEGIN:VCALENDAR
VERSION:2.0
PRODID:-//BIG ARTS of Sanibel - ECPv6.2.1//NONSGML v1.0//EN
CALSCALE:GREGORIAN
METHOD:PUBLISH
X-ORIGINAL-URL:https://bigarts.org
X-WR-CALDESC:Events for BIG ARTS of Sanibel
REFRESH-INTERVAL;VALUE=DURATION:PT1H
X-Robots-Tag:noindex
X-PUBLISHED-TTL:PT1H
BEGIN:VTIMEZONE
TZID:America/New_York
BEGIN:DAYLIGHT
TZOFFSETFROM:-0500
TZOFFSETTO:-0400
TZNAME:EDT
DTSTART:20260308T070000
END:DAYLIGHT
BEGIN:STANDARD
TZOFFSETFROM:-0400
TZOFFSETTO:-0500
TZNAME:EST
DTSTART:20261101T060000
END:STANDARD
END:VTIMEZONE
BEGIN:VEVENT
DTSTART;VALUE=DATE:20260126
DTEND;VALUE=DATE:20260128
DTSTAMP:20260421T005926
CREATED:20250623T211325Z
LAST-MODIFIED:20260120T195135Z
UID:10000624-1769385600-1769558399@bigarts.org
SUMMARY:Dynamic Skies & Seascapes
DESCRIPTION:Thursdays\, April 2\, 9 & 16\, 2026from 9:00 AM – 12:00 PM 3-day multi-week class fee: $140 / $112 annual donors Back by popular demand! Multi-level watercolor artists will enjoy this relaxed 3-week session of watercolor painting classes covering composition\, color theory\, and texture. Students will work at their own pace and learn to paint with confidence under Sunny’s guidance\, from reference materials provided. Return students are welcome! Call the box office to register: 239-395-0900 Cancellation deadline: 03/26/2026 						\n				\n					\n				\n		\n					\n		\n				\n				\n							\n					\n						\n									Supply List\n					\n					\n				\n						\n				\n				\n		\n				\n				\n							\n					\n						\n									Instructor Bio\n					\n					\n				\n						\n				\n				\n					\n				\n		\n					\n				\n				\n					\n			\n						\n		\n				\n				\n				\n				\n							Student Cancellation Policy: Cancellations made more than one week (7 days) prior to the start of class will receive an 80% refund.  OR – funds may be applied to any other workshop of your choice during the current season. Registration fees are non-refundable and non-transferable for cancellations made less than one-week prior to the start of the class. BIG ARTS Cancellation Policy: There is a minimum of 4 students required to run a class/workshop.  If the minimum number of students is not met one week (7 days) prior to the start of class BIG ARTS will cancel the class and refund students who are registered.
URL:https://bigarts.org/event/dynamic-skies-and-seascapes/
CATEGORIES:Fine Art
ATTACH;FMTTYPE=image/jpeg:https://bigarts.org/wp-content/uploads/2025/06/David-JAN.jpg
END:VEVENT
BEGIN:VEVENT
DTSTART;TZID=America/New_York:20260130T123000
DTEND;TZID=America/New_York:20260130T153000
DTSTAMP:20260421T005926
CREATED:20250623T184220Z
LAST-MODIFIED:20260120T195324Z
UID:10000621-1769776200-1769787000@bigarts.org
SUMMARY:Playful Discoveries with Acrylics 2026
DESCRIPTION:Thursdays\, April 2\, 9 & 16\, 2026from 9:00 AM – 12:00 PM 3-day multi-week class fee: $140 / $112 annual donors Back by popular demand! Multi-level watercolor artists will enjoy this relaxed 3-week session of watercolor painting classes covering composition\, color theory\, and texture. Students will work at their own pace and learn to paint with confidence under Sunny’s guidance\, from reference materials provided. Return students are welcome! Call the box office to register: 239-395-0900 Cancellation deadline: 03/26/2026 						\n				\n					\n				\n		\n					\n		\n				\n				\n							\n					\n						\n									Supply List\n					\n					\n				\n						\n				\n				\n		\n				\n				\n							\n					\n						\n									Instructor Bio\n					\n					\n				\n						\n				\n				\n					\n				\n		\n					\n				\n				\n					\n			\n						\n		\n				\n				\n				\n				\n							Student Cancellation Policy: Cancellations made more than one week (7 days) prior to the start of class will receive an 80% refund.  OR – funds may be applied to any other workshop of your choice during the current season. Registration fees are non-refundable and non-transferable for cancellations made less than one-week prior to the start of the class. BIG ARTS Cancellation Policy: There is a minimum of 4 students required to run a class/workshop.  If the minimum number of students is not met one week (7 days) prior to the start of class BIG ARTS will cancel the class and refund students who are registered.
URL:https://bigarts.org/event/playful-discoveries-with-acrylics-2026/
CATEGORIES:Fine Art
ATTACH;FMTTYPE=image/jpeg:https://bigarts.org/wp-content/uploads/2025/06/Janku-JAN.jpg
END:VEVENT
END:VCALENDAR