BEGIN:VCALENDAR
VERSION:2.0
PRODID:-//BIG ARTS of Sanibel - ECPv6.2.1//NONSGML v1.0//EN
CALSCALE:GREGORIAN
METHOD:PUBLISH
X-WR-CALNAME:BIG ARTS of Sanibel
X-ORIGINAL-URL:https://bigarts.org
X-WR-CALDESC:Events for BIG ARTS of Sanibel
REFRESH-INTERVAL;VALUE=DURATION:PT1H
X-Robots-Tag:noindex
X-PUBLISHED-TTL:PT1H
BEGIN:VTIMEZONE
TZID:America/New_York
BEGIN:DAYLIGHT
TZOFFSETFROM:-0500
TZOFFSETTO:-0400
TZNAME:EDT
DTSTART:20260308T070000
END:DAYLIGHT
BEGIN:STANDARD
TZOFFSETFROM:-0400
TZOFFSETTO:-0500
TZNAME:EST
DTSTART:20261101T060000
END:STANDARD
END:VTIMEZONE
BEGIN:VEVENT
DTSTART;VALUE=DATE:20260302
DTEND;VALUE=DATE:20260304
DTSTAMP:20260420T210203
CREATED:20250623T212247Z
LAST-MODIFIED:20260213T142205Z
UID:10000625-1772409600-1772582399@bigarts.org
SUMMARY:Expressive Palette Knife
DESCRIPTION:Thursdays\, April 2\, 9 & 16\, 2026from 9:00 AM – 12:00 PM 3-day multi-week class fee: $140 / $112 annual donors Back by popular demand! Multi-level watercolor artists will enjoy this relaxed 3-week session of watercolor painting classes covering composition\, color theory\, and texture. Students will work at their own pace and learn to paint with confidence under Sunny’s guidance\, from reference materials provided. Return students are welcome! Call the box office to register: 239-395-0900 Cancellation deadline: 03/26/2026 						\n				\n					\n				\n		\n					\n		\n				\n				\n							\n					\n						\n									Supply List\n					\n					\n				\n						\n				\n				\n		\n				\n				\n							\n					\n						\n									Instructor Bio\n					\n					\n				\n						\n				\n				\n					\n				\n		\n					\n				\n				\n					\n			\n						\n		\n				\n				\n				\n				\n							Student Cancellation Policy: Cancellations made more than one week (7 days) prior to the start of class will receive an 80% refund.  OR – funds may be applied to any other workshop of your choice during the current season. Registration fees are non-refundable and non-transferable for cancellations made less than one-week prior to the start of the class. BIG ARTS Cancellation Policy: There is a minimum of 4 students required to run a class/workshop.  If the minimum number of students is not met one week (7 days) prior to the start of class BIG ARTS will cancel the class and refund students who are registered.
URL:https://bigarts.org/event/expressive-palette-knife/
CATEGORIES:Fine Art
ATTACH;FMTTYPE=image/jpeg:https://bigarts.org/wp-content/uploads/2025/06/Atkelski-MAR.jpg
END:VEVENT
BEGIN:VEVENT
DTSTART;VALUE=DATE:20260320
DTEND;VALUE=DATE:20260411
DTSTAMP:20260420T210203
CREATED:20250926T131403Z
LAST-MODIFIED:20260316T144537Z
UID:10000713-1773964800-1775865599@bigarts.org
SUMMARY:THE ART OF PRINTMAKING #2
DESCRIPTION:Thursdays\, April 2\, 9 & 16\, 2026from 9:00 AM – 12:00 PM 3-day multi-week class fee: $140 / $112 annual donors Back by popular demand! Multi-level watercolor artists will enjoy this relaxed 3-week session of watercolor painting classes covering composition\, color theory\, and texture. Students will work at their own pace and learn to paint with confidence under Sunny’s guidance\, from reference materials provided. Return students are welcome! Call the box office to register: 239-395-0900 Cancellation deadline: 03/26/2026 						\n				\n					\n				\n		\n					\n		\n				\n				\n							\n					\n						\n									Supply List\n					\n					\n				\n						\n				\n				\n		\n				\n				\n							\n					\n						\n									Instructor Bio\n					\n					\n				\n						\n				\n				\n					\n				\n		\n					\n				\n				\n					\n			\n						\n		\n				\n				\n				\n				\n							Student Cancellation Policy: Cancellations made more than one week (7 days) prior to the start of class will receive an 80% refund.  OR – funds may be applied to any other workshop of your choice during the current season. Registration fees are non-refundable and non-transferable for cancellations made less than one-week prior to the start of the class. BIG ARTS Cancellation Policy: There is a minimum of 4 students required to run a class/workshop.  If the minimum number of students is not met one week (7 days) prior to the start of class BIG ARTS will cancel the class and refund students who are registered.
URL:https://bigarts.org/event/the-art-of-printmaking-2/
CATEGORIES:Fine Art
ATTACH;FMTTYPE=image/jpeg:https://bigarts.org/wp-content/uploads/2025/09/Printmaking-NEWER-1.jpg
END:VEVENT
BEGIN:VEVENT
DTSTART;TZID=America/New_York:20260323T100000
DTEND;TZID=America/New_York:20260323T160000
DTSTAMP:20260420T210203
CREATED:20250722T124626Z
LAST-MODIFIED:20260213T142313Z
UID:10000692-1774260000-1774281600@bigarts.org
SUMMARY:Fluid Fusion
DESCRIPTION:Thursdays\, April 2\, 9 & 16\, 2026from 9:00 AM – 12:00 PM 3-day multi-week class fee: $140 / $112 annual donors Back by popular demand! Multi-level watercolor artists will enjoy this relaxed 3-week session of watercolor painting classes covering composition\, color theory\, and texture. Students will work at their own pace and learn to paint with confidence under Sunny’s guidance\, from reference materials provided. Return students are welcome! Call the box office to register: 239-395-0900 Cancellation deadline: 03/26/2026 						\n				\n					\n				\n		\n					\n		\n				\n				\n							\n					\n						\n									Supply List\n					\n					\n				\n						\n				\n				\n		\n				\n				\n							\n					\n						\n									Instructor Bio\n					\n					\n				\n						\n				\n				\n					\n				\n		\n					\n				\n				\n					\n			\n						\n		\n				\n				\n				\n				\n							Student Cancellation Policy: Cancellations made more than one week (7 days) prior to the start of class will receive an 80% refund.  OR – funds may be applied to any other workshop of your choice during the current season. Registration fees are non-refundable and non-transferable for cancellations made less than one-week prior to the start of the class. BIG ARTS Cancellation Policy: There is a minimum of 4 students required to run a class/workshop.  If the minimum number of students is not met one week (7 days) prior to the start of class BIG ARTS will cancel the class and refund students who are registered.
URL:https://bigarts.org/event/fluid-fusion/
CATEGORIES:Fine Art
ATTACH;FMTTYPE=image/jpeg:https://bigarts.org/wp-content/uploads/2025/07/DeCaro-March.jpg
END:VEVENT
BEGIN:VEVENT
DTSTART;TZID=America/New_York:20260327T100000
DTEND;TZID=America/New_York:20260327T130000
DTSTAMP:20260420T210203
CREATED:20250623T182737Z
LAST-MODIFIED:20260213T142236Z
UID:10000619-1774605600-1774616400@bigarts.org
SUMMARY:Zentangle Drawing 2026
DESCRIPTION:Thursdays\, April 2\, 9 & 16\, 2026from 9:00 AM – 12:00 PM 3-day multi-week class fee: $140 / $112 annual donors Back by popular demand! Multi-level watercolor artists will enjoy this relaxed 3-week session of watercolor painting classes covering composition\, color theory\, and texture. Students will work at their own pace and learn to paint with confidence under Sunny’s guidance\, from reference materials provided. Return students are welcome! Call the box office to register: 239-395-0900 Cancellation deadline: 03/26/2026 						\n				\n					\n				\n		\n					\n		\n				\n				\n							\n					\n						\n									Supply List\n					\n					\n				\n						\n				\n				\n		\n				\n				\n							\n					\n						\n									Instructor Bio\n					\n					\n				\n						\n				\n				\n					\n				\n		\n					\n				\n				\n					\n			\n						\n		\n				\n				\n				\n				\n							Student Cancellation Policy: Cancellations made more than one week (7 days) prior to the start of class will receive an 80% refund.  OR – funds may be applied to any other workshop of your choice during the current season. Registration fees are non-refundable and non-transferable for cancellations made less than one-week prior to the start of the class. BIG ARTS Cancellation Policy: There is a minimum of 4 students required to run a class/workshop.  If the minimum number of students is not met one week (7 days) prior to the start of class BIG ARTS will cancel the class and refund students who are registered.
URL:https://bigarts.org/event/zentangle-drawing-2026/
CATEGORIES:Fine Art
ATTACH;FMTTYPE=image/jpeg:https://bigarts.org/wp-content/uploads/2025/06/Cole-MAR.jpg
END:VEVENT
END:VCALENDAR