BEGIN:VCALENDAR
VERSION:2.0
PRODID:-//BIG ARTS of Sanibel - ECPv6.2.1//NONSGML v1.0//EN
CALSCALE:GREGORIAN
METHOD:PUBLISH
X-WR-CALNAME:BIG ARTS of Sanibel
X-ORIGINAL-URL:https://bigarts.org
X-WR-CALDESC:Events for BIG ARTS of Sanibel
REFRESH-INTERVAL;VALUE=DURATION:PT1H
X-Robots-Tag:noindex
X-PUBLISHED-TTL:PT1H
BEGIN:VTIMEZONE
TZID:America/New_York
BEGIN:DAYLIGHT
TZOFFSETFROM:-0500
TZOFFSETTO:-0400
TZNAME:EDT
DTSTART:20260308T070000
END:DAYLIGHT
BEGIN:STANDARD
TZOFFSETFROM:-0400
TZOFFSETTO:-0500
TZNAME:EST
DTSTART:20261101T060000
END:STANDARD
END:VTIMEZONE
BEGIN:VEVENT
DTSTART;VALUE=DATE:20260611
DTEND;VALUE=DATE:20260717
DTSTAMP:20260420T145702
CREATED:20250630T170834Z
LAST-MODIFIED:20260316T143916Z
UID:10000650-1781136000-1784246399@bigarts.org
SUMMARY:Intermediate Pottery Wheel 102  - Thursdays\, June
DESCRIPTION:Thursdays\, January 8\, 15\, 22\, 29 & February 5\, 12\, 2026from 9:30 AM to 12:30 PM  6-week class: $295 / $236 donorsSupply fee: $65 per 20 lb. bag of clay & glaze used for that bag of clay. Purchased as needed through the box office. Discover the art of creating with your hands in this all-levels pottery handbuilding class! Whether you’re brand new to clay or an experienced ceramic artist\, this class offers a supportive\, creative environment to explore traditional and contemporary handbuilding techniques. Students will learn slab\, coil\, and pinch methods to build functional and sculptural pieces while experimenting with texture\, surface design\, and glazing. Beginners will receive step-by-step guidance on foundational skills; while returning or advanced students can pursue independent projects with individualized instruction to refine their technique and style. 						\n				\n				\n				\n							Call the box office to register: 239-395-0900 						\n				\n		\n		\n				\n				\n							\n					\n						\n									Studio Etiquette\n					\n					\n				\n						\n				\n				\n		\n				\n				\n							\n					\n						\n									Safety Protocols\n					\n					\n				\n						\n				\n				\n		\n				\n				\n							\n					\n						\n									General info\n					\n					\n				\n						\n				\n				\n				\n		\n		\n				\n				\n							\n					\n						\n									Supply List\n					\n					\n				\n						\n				\n				\n		\n				\n				\n							\n					\n						\n									Instructor Bio\n					\n					\n				\n						\n				\n				\n		\n				\n				\n				\n				\n					\n			\n						\n		\n				\n				\n				\n				\n							Cancellation deadline: 01/02/2026 BIG ARTS Cancellation Policy: Cancellations made more than one week (7 days) prior to the start of class will receive an 80% refund.  OR – funds may be applied to any other workshop of your choice during the current season. Registration fees are non-refundable and non-transferable for cancellations made less than one-week prior to the start of the class.
URL:https://bigarts.org/event/pottery-wheel-103-thursdays-june/
CATEGORIES:Pottery
ATTACH;FMTTYPE=image/jpeg:https://bigarts.org/wp-content/uploads/2025/06/Tim-Smith-Tuesdays.jpg
END:VEVENT
BEGIN:VEVENT
DTSTART;VALUE=DATE:20260612
DTEND;VALUE=DATE:20260711
DTSTAMP:20260420T145703
CREATED:20250630T180427Z
LAST-MODIFIED:20260213T143921Z
UID:10000655-1781222400-1783727999@bigarts.org
SUMMARY:Ceramics Open Studio - June
DESCRIPTION:Thursdays\, January 8\, 15\, 22\, 29 & February 5\, 12\, 2026from 9:30 AM to 12:30 PM  6-week class: $295 / $236 donorsSupply fee: $65 per 20 lb. bag of clay & glaze used for that bag of clay. Purchased as needed through the box office. Discover the art of creating with your hands in this all-levels pottery handbuilding class! Whether you’re brand new to clay or an experienced ceramic artist\, this class offers a supportive\, creative environment to explore traditional and contemporary handbuilding techniques. Students will learn slab\, coil\, and pinch methods to build functional and sculptural pieces while experimenting with texture\, surface design\, and glazing. Beginners will receive step-by-step guidance on foundational skills; while returning or advanced students can pursue independent projects with individualized instruction to refine their technique and style. 						\n				\n				\n				\n							Call the box office to register: 239-395-0900 						\n				\n		\n		\n				\n				\n							\n					\n						\n									Studio Etiquette\n					\n					\n				\n						\n				\n				\n		\n				\n				\n							\n					\n						\n									Safety Protocols\n					\n					\n				\n						\n				\n				\n		\n				\n				\n							\n					\n						\n									General info\n					\n					\n				\n						\n				\n				\n				\n		\n		\n				\n				\n							\n					\n						\n									Supply List\n					\n					\n				\n						\n				\n				\n		\n				\n				\n							\n					\n						\n									Instructor Bio\n					\n					\n				\n						\n				\n				\n		\n				\n				\n				\n				\n					\n			\n						\n		\n				\n				\n				\n				\n							Cancellation deadline: 01/02/2026 BIG ARTS Cancellation Policy: Cancellations made more than one week (7 days) prior to the start of class will receive an 80% refund.  OR – funds may be applied to any other workshop of your choice during the current season. Registration fees are non-refundable and non-transferable for cancellations made less than one-week prior to the start of the class.
URL:https://bigarts.org/event/ceramics-open-studio-june/
CATEGORIES:Pottery
ATTACH;FMTTYPE=image/jpeg:https://bigarts.org/wp-content/uploads/2025/06/Open-Studios.jpg
END:VEVENT
BEGIN:VEVENT
DTSTART;TZID=America/New_York:20260721T100000
DTEND;TZID=America/New_York:20260721T130000
DTSTAMP:20260420T145703
CREATED:20260402T161511Z
LAST-MODIFIED:20260402T162122Z
UID:10000751-1784628000-1784638800@bigarts.org
SUMMARY:Tape it Up: Shellfolk - It’s Mango Time
DESCRIPTION:Thursdays\, January 8\, 15\, 22\, 29 & February 5\, 12\, 2026from 9:30 AM to 12:30 PM  6-week class: $295 / $236 donorsSupply fee: $65 per 20 lb. bag of clay & glaze used for that bag of clay. Purchased as needed through the box office. Discover the art of creating with your hands in this all-levels pottery handbuilding class! Whether you’re brand new to clay or an experienced ceramic artist\, this class offers a supportive\, creative environment to explore traditional and contemporary handbuilding techniques. Students will learn slab\, coil\, and pinch methods to build functional and sculptural pieces while experimenting with texture\, surface design\, and glazing. Beginners will receive step-by-step guidance on foundational skills; while returning or advanced students can pursue independent projects with individualized instruction to refine their technique and style. 						\n				\n				\n				\n							Call the box office to register: 239-395-0900 						\n				\n		\n		\n				\n				\n							\n					\n						\n									Studio Etiquette\n					\n					\n				\n						\n				\n				\n		\n				\n				\n							\n					\n						\n									Safety Protocols\n					\n					\n				\n						\n				\n				\n		\n				\n				\n							\n					\n						\n									General info\n					\n					\n				\n						\n				\n				\n				\n		\n		\n				\n				\n							\n					\n						\n									Supply List\n					\n					\n				\n						\n				\n				\n		\n				\n				\n							\n					\n						\n									Instructor Bio\n					\n					\n				\n						\n				\n				\n		\n				\n				\n				\n				\n					\n			\n						\n		\n				\n				\n				\n				\n							Cancellation deadline: 01/02/2026 BIG ARTS Cancellation Policy: Cancellations made more than one week (7 days) prior to the start of class will receive an 80% refund.  OR – funds may be applied to any other workshop of your choice during the current season. Registration fees are non-refundable and non-transferable for cancellations made less than one-week prior to the start of the class.
URL:https://bigarts.org/event/tape-it-up-its-mango-time/
CATEGORIES:Fine Craft
ATTACH;FMTTYPE=image/jpeg:https://bigarts.org/wp-content/uploads/2026/04/Mango.jpg
END:VEVENT
END:VCALENDAR