BEGIN:VCALENDAR
VERSION:2.0
PRODID:-//BIG ARTS of Sanibel - ECPv6.2.1//NONSGML v1.0//EN
CALSCALE:GREGORIAN
METHOD:PUBLISH
X-WR-CALNAME:BIG ARTS of Sanibel
X-ORIGINAL-URL:https://bigarts.org
X-WR-CALDESC:Events for BIG ARTS of Sanibel
REFRESH-INTERVAL;VALUE=DURATION:PT1H
X-Robots-Tag:noindex
X-PUBLISHED-TTL:PT1H
BEGIN:VTIMEZONE
TZID:America/New_York
BEGIN:DAYLIGHT
TZOFFSETFROM:-0500
TZOFFSETTO:-0400
TZNAME:EDT
DTSTART:20260308T070000
END:DAYLIGHT
BEGIN:STANDARD
TZOFFSETFROM:-0400
TZOFFSETTO:-0500
TZNAME:EST
DTSTART:20261101T060000
END:STANDARD
END:VTIMEZONE
BEGIN:VEVENT
DTSTART;TZID=America/New_York:20260409T160000
DTEND;TZID=America/New_York:20260409T180000
DTSTAMP:20260421T051401
CREATED:20250620T131653Z
LAST-MODIFIED:20260213T142835Z
UID:10000591-1775750400-1775757600@bigarts.org
SUMMARY:April Wine & Raku Mixer
DESCRIPTION:Class fee: $105 for all participants. Includes a pre-thrown 8-inch clay pot for each student. Enjoy this fun-filled evening as we begin in the classroom learning about Raku\, a traditional Japanese pottery-firing technique. Students will experience the application of crackle glaze\, copper mat glaze\, and more… Students will observe the exciting steps of loading and unloading the kilns\, outside in the sculpture garden\, while sipping on wine and enjoy light snacks during the 45-minute firing process. Finally\, the pots are quenched with water before each student takes home their beautiful raku work of art. 						\n				\n				\n				\n							\n					\n						\n									Artist BIO\n					\n					\n				\n						\n				\n				\n				\n							Call the box office to register: 239-395-0900 						\n				\n				\n				\n					\n			\n						\n		\n				\n				\n				\n				\n							Cancellation deadline: 05/28/2026 Student Cancellation Policy: Cancellations made more than one week (7 days) prior to the start of class will receive an 80% refund.  OR – funds may be applied to any other workshop of your choice during the current season. Registration fees are non-refundable and non-transferable for cancellations made less than one-week prior to the start of the class. BIG ARTS Cancellation Policy: There is a minimum of 4 students required to run a class/workshop.  If the minimum number of students is not met one week (7 days) prior to the start of class BIG ARTS will cancel the class and refund students who are registered.
URL:https://bigarts.org/event/april-wine-raku-mixer/
CATEGORIES:Pottery,Wine & Art MIXERS
ATTACH;FMTTYPE=image/jpeg:https://bigarts.org/wp-content/uploads/2025/06/Raku-Mixers-1.jpg
END:VEVENT
END:VCALENDAR